Workbook

Sheet Plan your Plan
B2: ai your plan | D2: for more details visit:
D3: aiyourleadership.com | J3: increment period: | K3: Multiplier | L3: Round down | M3: 0 | N3: 1 | O3: 2 | P3: 3 | Q3: 4 | R3: 5 | S3: 6 | T3: 7 | U3: 8 | V3: 9 | W3: 10 | X3: 11 | Y3: 12 | Z3: 13 | AA3: 14 | AB3: 15 | AC3: 16 | AD3: 17 | AE3: 18 | AF3: 19 | AG3: 20 | AH3: 21 | AI3: 22 | AJ3: 23 | AK3: 24 | AL3: 25 | AM3: 26 | AN3: 27 | AO3: 28 | AP3: 29 | AQ3: 30 | AR3: 31 | AS3: 32 | AT3: 33 | AU3: 34 | AV3: 35 | AW3: 36 | AX3: 37 | AY3: 38 | AZ3: 39 | BA3: 40 | BB3: 41 | BC3: 42 | BD3: 43 | BE3: 44 | BF3: 45 | BG3: 46 | BH3: 47 | BI3: 48 | BJ3: 49 | BK3: 50 | BL3: 51 | BM3: 52 | BN3: 53 | BO3: 54 | BP3: 55 | BQ3: 56 | BR3: 57 | BS3: 58 | BT3: 59 | BU3: 60 | BV3: 61 | BW3: 62 | BX3: 63 | BY3: 64 | BZ3: 65 | CA3: 66 | CB3: 67 | CC3: 68 | CD3: 69 | CE3: 70 | CF3: 71 | CG3: 72 | CH3: 73 | CI3: 74 | CJ3: 75 | CK3: 76 | CL3: 77 | CM3: 78 | CN3: 79 | CO3: 80 | CP3: 81 | CQ3: 82 | CR3: 83 | CS3: 84 | CT3: 85 | CU3: 86 | CV3: 87 | CW3: 88 | CX3: 89 | CY3: 90 | CZ3: 91 | DA3: 92 | DB3: 93 | DC3: 94 | DD3: 95 | DE3: 96 | DF3: 97 | DG3: 98 | DH3: 99 | DI3: 100
B4: Enter your data here: | F4: Duration: | G4: =G5*60 -> 262080 | I4: =IF(AND(G4>50,G4<100),"Y","") | J4: minute | K4: =1/1440 -> 0.00069444444 | M4: =N4-1/1440 -> 46356.999 | N4: =$C$6 -> 46357 | O4: =N4+1/1440 -> 46357.001 | P4: =O4+1/1440 -> 46357.001 | Q4: =P4+1/1440 -> 46357.002 | R4: =Q4+1/1440 -> 46357.003 | S4: =R4+1/1440 -> 46357.003 | T4: =S4+1/1440 -> 46357.004 | U4: =T4+1/1440 -> 46357.005 | V4: =U4+1/1440 -> 46357.006 | ... DI4: =DH4+1/1440 -> 46357.069
B5: Project Name: | C5: Your Project Name Here | D5: Resource Names | G5: =G6*24 -> 4368 | I5: =IF(AND(G5>50,G5<100),"Y","") | J5: hour | K5: =1/24 -> 0.041666667 | M5: =N5-1/24 -> 46356.958 | N5: =$C$6 -> 46357 | O5: =N5+1/24 -> 46357.042 | P5: =O5+1/24 -> 46357.083 | Q5: =P5+1/24 -> 46357.125 | R5: =Q5+1/24 -> 46357.167 | S5: =R5+1/24 -> 46357.208 | T5: =S5+1/24 -> 46357.25 | U5: =T5+1/24 -> 46357.292 | V5: =U5+1/24 -> 46357.333 | ... DI5: =DH5+1/24 -> 46361.125
B6: Start Date: | C6: 46357 | D6: Me | G6: =C7-C6 -> 182 | I6: =IF(AND(G6>50,G6<100),"Y","") | J6: day | K6: 1 | M6: =N6-1 -> 46356 | N6: =$C$6 -> 46357 | O6: =N6+1 -> 46358 | P6: =O6+1 -> 46359 | Q6: =P6+1 -> 46360 | R6: =Q6+1 -> 46361 | S6: =R6+1 -> 46362 | T6: =S6+1 -> 46363 | U6: =T6+1 -> 46364 | V6: =U6+1 -> 46365 | ... DI6: =DH6+1 -> 46456
B7: Estimated Finish Date (worst case): | C7: 46539 | D7: Myself | G7: =G6/355 -> 0.51267606 | I7: =IF(AND(G7>50,G7<100),"Y","") | J7: year | K7: 355 | M7: =EOMONTH(N7,-12) -> 45688 | N7: =DATE(YEAR($C$6),1,1) -> 46023 | O7: =EOMONTH(N7,12) -> 46418 | P7: =EOMONTH(O7,12) -> 46783 | Q7: =EOMONTH(P7,12) -> 47149 | R7: =EOMONTH(Q7,12) -> 47514 | S7: =EOMONTH(R7,12) -> 47879 | T7: =EOMONTH(S7,12) -> 48244 | U7: =EOMONTH(T7,12) -> 48610 | V7: =EOMONTH(U7,12) -> 48975 | ... DI7: =EOMONTH(DH7,12) -> 82212
B8: Project Leader: | C8: The Boss | D8: I | G8: =G7*12 -> 6.1521127 | I8: =IF(AND(G8>50,G8<100),"Y","") | J8: month | K8: 30 | M8: =EOMONTH(N8,-1) -> 46356 | N8: =EOMONTH($C$6,0) -> 46387 | O8: =EOMONTH(N8,1) -> 46418 | P8: =EOMONTH(O8,1) -> 46446 | Q8: =EOMONTH(P8,1) -> 46477 | R8: =EOMONTH(Q8,1) -> 46507 | S8: =EOMONTH(R8,1) -> 46538 | T8: =EOMONTH(S8,1) -> 46568 | U8: =EOMONTH(T8,1) -> 46599 | V8: =EOMONTH(U8,1) -> 46630 | ... DI8: =EOMONTH(DH8,1) -> 49399
G9: =G7*52 -> 26.659155 | I9: =IF(AND(G9>50,G9<100),"Y","") | J9: week | K9: 7 | L9: =WEEKDAY(C6) -> 3 | M9: =N9-7 -> 46349 | N9: =$C$6-(L9-2) -> 46356 | O9: =N9+7 -> 46363 | P9: =O9+7 -> 46370 | Q9: =P9+7 -> 46377 | R9: =Q9+7 -> 46384 | S9: =R9+7 -> 46391 | T9: =S9+7 -> 46398 | U9: =T9+7 -> 46405 | V9: =U9+7 -> 46412 | ... DI9: =DH9+7 -> 47049
B11: Then check this:
B13: Suggested time increment for Gantt: | C13: =IF(ISBLANK(C14),IF(COUNTIF(I4:I9,"Y")=1,VLOOKUP("Y",I4:J9,2,FALSE),J9),C14) -> week
B14: Desired time increment for Gantt:
C15: (↑↑leave blank if you want to use suggested increment↑↑)
B25: © 2026 Tanya Sainty | ai your leadership
B27: Free for personal and professional use. You may adapt this template for your own projects. Please do not redistribute, resell or publish the template as your own.
B30: aiyourleadership.com

Sheet Plan your Activities
A1: Work Groups | B1: Workgroup 1 | C1: Workgroup 2 | D1: Workgroup 3 | E1: Workgroup 4 | F1: Workgroup 5 | G1: Workgroup 6
A2: Activities | B2: WG 1 Activity 1 | C2: WG 2 Activity 1 | D2: WG 3 Activity 1 | E2: WG 4 Activity 1 | F2: WG 5 Activity 1 | G2: WG 6 Activity 1
A3: ↓ | B3: WG 1 Activity 2 | C3: WG 2 Activity 2 | D3: WG 3 Activity 2 | E3: WG 4 Activity 2 | F3: WG 5 Activity 2 | G3: WG 6 Activity 2
B4: WG 1 Activity 3 | C4: WG 2 Activity 3 | D4: WG 3 Activity 3 | E4: WG 4 Activity 3 | F4: WG 5 Activity 3 | G4: WG 6 Activity 3
B5: WG 1 Activity 4 | C5: WG 2 Activity 4 | D5: WG 3 Activity 4 | E5: WG 4 Activity 4 | G5: WG 6 Activity 4
B6: WG 1 Activity 5 | D6: WG 3 Activity 5 | E6: WG 4 Activity 5
B7: WG 1 Activity 6 | D7: WG 3 Activity 6
D8: WG 3 Activity 7

Sheet Plan your Gantt
C2: Project: | D2: ='Plan your Plan'!$C$5 -> Your Project Name Here | I2: Project Lead: | J2: ='Plan your Plan'!$C$8 -> The Boss
G4: Duration in | H4: duration in days | M4: ='Plan your Plan'!C13 -> week | N4: 0 | O4: ='Plan your Plan'!N3 -> 1 | P4: ='Plan your Plan'!O3 -> 2 | Q4: ='Plan your Plan'!P3 -> 3 | R4: ='Plan your Plan'!Q3 -> 4 | S4: ='Plan your Plan'!R3 -> 5 | T4: ='Plan your Plan'!S3 -> 6 | U4: ='Plan your Plan'!T3 -> 7 | V4: ='Plan your Plan'!U3 -> 8 | ... DJ4: ='Plan your Plan'!DI3 -> 100
B5: ID | C5: Activity | D5: Assigned to | E5: Dependent on | F5: Start | G5: =_xlfn.CONCAT("whole ",'Plan your Plan'!C13,"s") -> whole weeks | I5: End | J5: Progress | K5: progress date | M5: commencing: | N5: =INDEX('Plan your Plan'!$M$4:$DI$9,MATCH('Plan your Plan'!$C$13,'Plan your Plan'!$J$4:$J$9,0),MATCH(N4,'Plan your Plan'!$M$3:$DI$3,0)) -> 46349 | O5: =INDEX('Plan your Plan'!$M$4:$DI$9,MATCH('Plan your Plan'!$C$13,'Plan your Plan'!$J$4:$J$9,0),MATCH(O4,'Plan your Plan'!$M$3:$DI$3,0)) -> 46356 | P5: =INDEX('Plan your Plan'!$M$4:$DI$9,MATCH('Plan your Plan'!$C$13,'Plan your Plan'!$J$4:$J$9,0),MATCH(P4,'Plan your Plan'!$M$3:$DI$3,0)) -> 46363 | Q5: =INDEX('Plan your Plan'!$M$4:$DI$9,MATCH('Plan your Plan'!$C$13,'Plan your Plan'!$J$4:$J$9,0),MATCH(Q4,'Plan your Plan'!$M$3:$DI$3,0)) -> 46370 | R5: =INDEX('Plan your Plan'!$M$4:$DI$9,MATCH('Plan your Plan'!$C$13,'Plan your Plan'!$J$4:$J$9,0),MATCH(R4,'Plan your Plan'!$M$3:$DI$3,0)) -> 46377 | S5: =INDEX('Plan your Plan'!$M$4:$DI$9,MATCH('Plan your Plan'!$C$13,'Plan your Plan'!$J$4:$J$9,0),MATCH(S4,'Plan your Plan'!$M$3:$DI$3,0)) -> 46384 | T5: =INDEX('Plan your Plan'!$M$4:$DI$9,MATCH('Plan your Plan'!$C$13,'Plan your Plan'!$J$4:$J$9,0),MATCH(T4,'Plan your Plan'!$M$3:$DI$3,0)) -> 46391 | U5: =INDEX('Plan your Plan'!$M$4:$DI$9,MATCH('Plan your Plan'!$C$13,'Plan your Plan'!$J$4:$J$9,0),MATCH(U4,'Plan your Plan'!$M$3:$DI$3,0)) -> 46398 | ... DJ5: =INDEX('Plan your Plan'!$M$4:$DI$9,MATCH('Plan your Plan'!$C$13,'Plan your Plan'!$J$4:$J$9,0),MATCH(DJ4,'Plan your Plan'!$M$3:$DI$3,0)) -> 47049
B6: =(IF(COUNTIF('Plan your Activities'!$A$1:$Z$1,C6)>0,1,"")) -> 1 | C6: {=_xlfn.TOCOL('Plan your Activities'!B1:N100,1,TRUE)} -> Workgroup 1
B7: =(IF(C7="","",ROUND(IF(COUNTIF('Plan your Activities'!$A$1:$Z$1,C7)>0,ROUNDUP(B6,0),B6+0.01),2))) -> 1.01 | C7: WG 1 Activity 1 | D7: Me | F7: =IFERROR(VLOOKUP(E7,$B$6:$I$200,8,FALSE),'Plan your Plan'!$C$6) -> 46357 | G7: 2 | H7: =G7*VLOOKUP('Plan your Plan'!$C$13,'Plan your Plan'!$J$4:$K$9,2,FALSE) -> 14 | I7: =IF(F7="","",F7+H7) -> 46371 | K7: =IF(F7="","",F7+(H7*J7)) -> 46357
B8: =(IF(C8="","",ROUND(IF(COUNTIF('Plan your Activities'!$A$1:$Z$1,C8)>0,ROUNDUP(B7,0),B7+0.01),2))) -> 1.02 | C8: WG 1 Activity 2 | E8: 1.01 | F8: =IFERROR(VLOOKUP(E8,$B$6:$I$200,8,FALSE),'Plan your Plan'!$C$6) -> 46371 | G8: 3 | H8: =G8*VLOOKUP('Plan your Plan'!$C$13,'Plan your Plan'!$J$4:$K$9,2,FALSE) -> 21 | I8: =IF(F8="","",F8+H8) -> 46392 | K8: =IF(F8="","",F8+(H8*J8)) -> 46371
B9: =(IF(C9="","",ROUND(IF(COUNTIF('Plan your Activities'!$A$1:$Z$1,C9)>0,ROUNDUP(B8,0),B8+0.01),2))) -> 1.03 | C9: WG 1 Activity 3 | D9: Myself | E9: 1.01 | F9: =IFERROR(VLOOKUP(E9,$B$6:$I$200,8,FALSE),'Plan your Plan'!$C$6) -> 46371 | G9: 1 | H9: =G9*VLOOKUP('Plan your Plan'!$C$13,'Plan your Plan'!$J$4:$K$9,2,FALSE) -> 7 | I9: =IF(F9="","",F9+H9) -> 46378 | K9: =IF(F9="","",F9+(H9*J9)) -> 46371
B10: =(IF(C10="","",ROUND(IF(COUNTIF('Plan your Activities'!$A$1:$Z$1,C10)>0,ROUNDUP(B9,0),B9+0.01),2))) -> 1.04 | C10: WG 1 Activity 4 | E10: 1.02 | F10: =IFERROR(VLOOKUP(E10,$B$6:$I$200,8,FALSE),'Plan your Plan'!$C$6) -> 46392 | G10: 4 | H10: =G10*VLOOKUP('Plan your Plan'!$C$13,'Plan your Plan'!$J$4:$K$9,2,FALSE) -> 28 | I10: =IF(F10="","",F10+H10) -> 46420 | K10: =IF(F10="","",F10+(H10*J10)) -> 46392
B11: =(IF(C11="","",ROUND(IF(COUNTIF('Plan your Activities'!$A$1:$Z$1,C11)>0,ROUNDUP(B10,0),B10+0.01),2))) -> 1.05 | C11: WG 1 Activity 5 | E11: 1.03 | F11: =IFERROR(VLOOKUP(E11,$B$6:$I$200,8,FALSE),'Plan your Plan'!$C$6) -> 46378 | G11: 1 | H11: =G11*VLOOKUP('Plan your Plan'!$C$13,'Plan your Plan'!$J$4:$K$9,2,FALSE) -> 7 | I11: =IF(F11="","",F11+H11) -> 46385 | K11: =IF(F11="","",F11+(H11*J11)) -> 46378
B12: =(IF(C12="","",ROUND(IF(COUNTIF('Plan your Activities'!$A$1:$Z$1,C12)>0,ROUNDUP(B11,0),B11+0.01),2))) -> 1.06 | C12: WG 1 Activity 6 | E12: 1.05 | F12: =IFERROR(VLOOKUP(E12,$B$6:$I$200,8,FALSE),'Plan your Plan'!$C$6) -> 46385 | G12: 2 | H12: =G12*VLOOKUP('Plan your Plan'!$C$13,'Plan your Plan'!$J$4:$K$9,2,FALSE) -> 14 | I12: =IF(F12="","",F12+H12) -> 46399 | K12: =IF(F12="","",F12+(H12*J12)) -> 46385
B13: =(IF(C13="","",ROUND(IF(COUNTIF('Plan your Activities'!$A$1:$Z$1,C13)>0,ROUNDUP(B12,0),B12+0.01),2))) -> 2 | C13: Workgroup 2 | F13: =IFERROR(VLOOKUP(E13,$B$6:$I$200,8,FALSE),'Plan your Plan'!$C$6) -> 46357 | H13: =G13*VLOOKUP('Plan your Plan'!$C$13,'Plan your Plan'!$J$4:$K$9,2,FALSE) -> 0 | I13: =IF(F13="","",F13+H13) -> 46357 | K13: =IF(F13="","",F13+(H13*J13)) -> 46357
B14: =(IF(C14="","",ROUND(IF(COUNTIF('Plan your Activities'!$A$1:$Z$1,C14)>0,ROUNDUP(B13,0),B13+0.01),2))) -> 2.01 | C14: WG 2 Activity 1 | D14: I | E14: 1.06 | F14: =IFERROR(VLOOKUP(E14,$B$6:$I$200,8,FALSE),'Plan your Plan'!$C$6) -> 46399 | G14: 1 | H14: =G14*VLOOKUP('Plan your Plan'!$C$13,'Plan your Plan'!$J$4:$K$9,2,FALSE) -> 7 | I14: =IF(F14="","",F14+H14) -> 46406 | K14: =IF(F14="","",F14+(H14*J14)) -> 46399
B15: =(IF(C15="","",ROUND(IF(COUNTIF('Plan your Activities'!$A$1:$Z$1,C15)>0,ROUNDUP(B14,0),B14+0.01),2))) -> 2.02 | C15: WG 2 Activity 2 | E15: 2.01 | F15: =IFERROR(VLOOKUP(E15,$B$6:$I$200,8,FALSE),'Plan your Plan'!$C$6) -> 46406 | G15: 2 | H15: =G15*VLOOKUP('Plan your Plan'!$C$13,'Plan your Plan'!$J$4:$K$9,2,FALSE) -> 14 | I15: =IF(F15="","",F15+H15) -> 46420 | K15: =IF(F15="","",F15+(H15*J15)) -> 46406
B16: =(IF(C16="","",ROUND(IF(COUNTIF('Plan your Activities'!$A$1:$Z$1,C16)>0,ROUNDUP(B15,0),B15+0.01),2))) -> 2.03 | C16: WG 2 Activity 3 | E16: 2.02 | F16: =IFERROR(VLOOKUP(E16,$B$6:$I$200,8,FALSE),'Plan your Plan'!$C$6) -> 46420 | G16: 1 | H16: =G16*VLOOKUP('Plan your Plan'!$C$13,'Plan your Plan'!$J$4:$K$9,2,FALSE) -> 7 | I16: =IF(F16="","",F16+H16) -> 46427 | K16: =IF(F16="","",F16+(H16*J16)) -> 46420
B17: =(IF(C17="","",ROUND(IF(COUNTIF('Plan your Activities'!$A$1:$Z$1,C17)>0,ROUNDUP(B16,0),B16+0.01),2))) -> 2.04 | C17: WG 2 Activity 4 | E17: 2.03 | F17: =IFERROR(VLOOKUP(E17,$B$6:$I$200,8,FALSE),'Plan your Plan'!$C$6) -> 46427 | G17: 3 | H17: =G17*VLOOKUP('Plan your Plan'!$C$13,'Plan your Plan'!$J$4:$K$9,2,FALSE) -> 21 | I17: =IF(F17="","",F17+H17) -> 46448 | K17: =IF(F17="","",F17+(H17*J17)) -> 46427
B18: =(IF(C18="","",ROUND(IF(COUNTIF('Plan your Activities'!$A$1:$Z$1,C18)>0,ROUNDUP(B17,0),B17+0.01),2))) -> 3 | C18: Workgroup 3 | D18: Me | F18: =IFERROR(VLOOKUP(E18,$B$6:$I$200,8,FALSE),'Plan your Plan'!$C$6) -> 46357 | H18: =G18*VLOOKUP('Plan your Plan'!$C$13,'Plan your Plan'!$J$4:$K$9,2,FALSE) -> 0 | I18: =IF(F18="","",F18+H18) -> 46357 | K18: =IF(F18="","",F18+(H18*J18)) -> 46357
B19: =(IF(C19="","",ROUND(IF(COUNTIF('Plan your Activities'!$A$1:$Z$1,C19)>0,ROUNDUP(B18,0),B18+0.01),2))) -> 3.01 | C19: WG 3 Activity 1 | F19: =IFERROR(VLOOKUP(E19,$B$6:$I$200,8,FALSE),'Plan your Plan'!$C$6) -> 46357 | H19: =G19*VLOOKUP('Plan your Plan'!$C$13,'Plan your Plan'!$J$4:$K$9,2,FALSE) -> 0 | I19: =IF(F19="","",F19+H19) -> 46357 | K19: =IF(F19="","",F19+(H19*J19)) -> 46357
B20: =(IF(C20="","",ROUND(IF(COUNTIF('Plan your Activities'!$A$1:$Z$1,C20)>0,ROUNDUP(B19,0),B19+0.01),2))) -> 3.02 | C20: WG 3 Activity 2 | F20: =IFERROR(VLOOKUP(E20,$B$6:$I$200,8,FALSE),'Plan your Plan'!$C$6) -> 46357 | H20: =G20*VLOOKUP('Plan your Plan'!$C$13,'Plan your Plan'!$J$4:$K$9,2,FALSE) -> 0 | I20: =IF(F20="","",F20+H20) -> 46357 | K20: =IF(F20="","",F20+(H20*J20)) -> 46357
B21: =(IF(C21="","",ROUND(IF(COUNTIF('Plan your Activities'!$A$1:$Z$1,C21)>0,ROUNDUP(B20,0),B20+0.01),2))) -> 3.03 | C21: WG 3 Activity 3 | F21: =IFERROR(VLOOKUP(E21,$B$6:$I$200,8,FALSE),'Plan your Plan'!$C$6) -> 46357 | H21: =G21*VLOOKUP('Plan your Plan'!$C$13,'Plan your Plan'!$J$4:$K$9,2,FALSE) -> 0 | I21: =IF(F21="","",F21+H21) -> 46357 | K21: =IF(F21="","",F21+(H21*J21)) -> 46357
B22: =(IF(C22="","",ROUND(IF(COUNTIF('Plan your Activities'!$A$1:$Z$1,C22)>0,ROUNDUP(B21,0),B21+0.01),2))) -> 3.04 | C22: WG 3 Activity 4 | F22: =IFERROR(VLOOKUP(E22,$B$6:$I$200,8,FALSE),'Plan your Plan'!$C$6) -> 46357 | H22: =G22*VLOOKUP('Plan your Plan'!$C$13,'Plan your Plan'!$J$4:$K$9,2,FALSE) -> 0 | I22: =IF(F22="","",F22+H22) -> 46357 | K22: =IF(F22="","",F22+(H22*J22)) -> 46357
B23: =(IF(C23="","",ROUND(IF(COUNTIF('Plan your Activities'!$A$1:$Z$1,C23)>0,ROUNDUP(B22,0),B22+0.01),2))) -> 3.05 | C23: WG 3 Activity 5 | F23: =IFERROR(VLOOKUP(E23,$B$6:$I$200,8,FALSE),'Plan your Plan'!$C$6) -> 46357 | H23: =G23*VLOOKUP('Plan your Plan'!$C$13,'Plan your Plan'!$J$4:$K$9,2,FALSE) -> 0 | I23: =IF(F23="","",F23+H23) -> 46357 | K23: =IF(F23="","",F23+(H23*J23)) -> 46357
B24: =(IF(C24="","",ROUND(IF(COUNTIF('Plan your Activities'!$A$1:$Z$1,C24)>0,ROUNDUP(B23,0),B23+0.01),2))) -> 3.06 | C24: WG 3 Activity 6 | F24: =IFERROR(VLOOKUP(E24,$B$6:$I$200,8,FALSE),'Plan your Plan'!$C$6) -> 46357 | H24: =G24*VLOOKUP('Plan your Plan'!$C$13,'Plan your Plan'!$J$4:$K$9,2,FALSE) -> 0 | I24: =IF(F24="","",F24+H24) -> 46357 | K24: =IF(F24="","",F24+(H24*J24)) -> 46357
B25: =(IF(C25="","",ROUND(IF(COUNTIF('Plan your Activities'!$A$1:$Z$1,C25)>0,ROUNDUP(B24,0),B24+0.01),2))) -> 3.07 | C25: WG 3 Activity 7 | D25: I | F25: =IFERROR(VLOOKUP(E25,$B$6:$I$200,8,FALSE),'Plan your Plan'!$C$6) -> 46357 | H25: =G25*VLOOKUP('Plan your Plan'!$C$13,'Plan your Plan'!$J$4:$K$9,2,FALSE) -> 0 | I25: =IF(F25="","",F25+H25) -> 46357 | K25: =IF(F25="","",F25+(H25*J25)) -> 46357
B26: =(IF(C26="","",ROUND(IF(COUNTIF('Plan your Activities'!$A$1:$Z$1,C26)>0,ROUNDUP(B25,0),B25+0.01),2))) -> 4 | C26: Workgroup 4 | F26: =IFERROR(VLOOKUP(E26,$B$6:$I$200,8,FALSE),'Plan your Plan'!$C$6) -> 46357 | H26: =G26*VLOOKUP('Plan your Plan'!$C$13,'Plan your Plan'!$J$4:$K$9,2,FALSE) -> 0 | I26: =IF(F26="","",F26+H26) -> 46357 | K26: =IF(F26="","",F26+(H26*J26)) -> 46357
B27: =(IF(C27="","",ROUND(IF(COUNTIF('Plan your Activities'!$A$1:$Z$1,C27)>0,ROUNDUP(B26,0),B26+0.01),2))) -> 4.01 | C27: WG 4 Activity 1 | F27: =IFERROR(VLOOKUP(E27,$B$6:$I$200,8,FALSE),'Plan your Plan'!$C$6) -> 46357 | H27: =G27*VLOOKUP('Plan your Plan'!$C$13,'Plan your Plan'!$J$4:$K$9,2,FALSE) -> 0 | I27: =IF(F27="","",F27+H27) -> 46357 | K27: =IF(F27="","",F27+(H27*J27)) -> 46357
B28: =(IF(C28="","",ROUND(IF(COUNTIF('Plan your Activities'!$A$1:$Z$1,C28)>0,ROUNDUP(B27,0),B27+0.01),2))) -> 4.02 | C28: WG 4 Activity 2 | F28: =IFERROR(VLOOKUP(E28,$B$6:$I$200,8,FALSE),'Plan your Plan'!$C$6) -> 46357 | H28: =G28*VLOOKUP('Plan your Plan'!$C$13,'Plan your Plan'!$J$4:$K$9,2,FALSE) -> 0 | I28: =IF(F28="","",F28+H28) -> 46357 | K28: =IF(F28="","",F28+(H28*J28)) -> 46357
B29: =(IF(C29="","",ROUND(IF(COUNTIF('Plan your Activities'!$A$1:$Z$1,C29)>0,ROUNDUP(B28,0),B28+0.01),2))) -> 4.03 | C29: WG 4 Activity 3 | F29: =IFERROR(VLOOKUP(E29,$B$6:$I$200,8,FALSE),'Plan your Plan'!$C$6) -> 46357 | H29: =G29*VLOOKUP('Plan your Plan'!$C$13,'Plan your Plan'!$J$4:$K$9,2,FALSE) -> 0 | I29: =IF(F29="","",F29+H29) -> 46357 | K29: =IF(F29="","",F29+(H29*J29)) -> 46357
B30: =(IF(C30="","",ROUND(IF(COUNTIF('Plan your Activities'!$A$1:$Z$1,C30)>0,ROUNDUP(B29,0),B29+0.01),2))) -> 4.04 | C30: WG 4 Activity 4 | D30: Me | F30: =IFERROR(VLOOKUP(E30,$B$6:$I$200,8,FALSE),'Plan your Plan'!$C$6) -> 46357 | H30: =G30*VLOOKUP('Plan your Plan'!$C$13,'Plan your Plan'!$J$4:$K$9,2,FALSE) -> 0 | I30: =IF(F30="","",F30+H30) -> 46357 | K30: =IF(F30="","",F30+(H30*J30)) -> 46357
B31: =(IF(C31="","",ROUND(IF(COUNTIF('Plan your Activities'!$A$1:$Z$1,C31)>0,ROUNDUP(B30,0),B30+0.01),2))) -> 4.05 | C31: WG 4 Activity 5 | D31: Myself | F31: =IFERROR(VLOOKUP(E31,$B$6:$I$200,8,FALSE),'Plan your Plan'!$C$6) -> 46357 | H31: =G31*VLOOKUP('Plan your Plan'!$C$13,'Plan your Plan'!$J$4:$K$9,2,FALSE) -> 0 | I31: =IF(F31="","",F31+H31) -> 46357 | K31: =IF(F31="","",F31+(H31*J31)) -> 46357
B32: =(IF(C32="","",ROUND(IF(COUNTIF('Plan your Activities'!$A$1:$Z$1,C32)>0,ROUNDUP(B31,0),B31+0.01),2))) -> 5 | C32: Workgroup 5 | F32: =IFERROR(VLOOKUP(E32,$B$6:$I$200,8,FALSE),'Plan your Plan'!$C$6) -> 46357 | H32: =G32*VLOOKUP('Plan your Plan'!$C$13,'Plan your Plan'!$J$4:$K$9,2,FALSE) -> 0 | I32: =IF(F32="","",F32+H32) -> 46357 | K32: =IF(F32="","",F32+(H32*J32)) -> 46357
B33: =(IF(C33="","",ROUND(IF(COUNTIF('Plan your Activities'!$A$1:$Z$1,C33)>0,ROUNDUP(B32,0),B32+0.01),2))) -> 5.01 | C33: WG 5 Activity 1 | F33: =IFERROR(VLOOKUP(E33,$B$6:$I$200,8,FALSE),'Plan your Plan'!$C$6) -> 46357 | H33: =G33*VLOOKUP('Plan your Plan'!$C$13,'Plan your Plan'!$J$4:$K$9,2,FALSE) -> 0 | I33: =IF(F33="","",F33+H33) -> 46357 | K33: =IF(F33="","",F33+(H33*J33)) -> 46357
B34: =(IF(C34="","",ROUND(IF(COUNTIF('Plan your Activities'!$A$1:$Z$1,C34)>0,ROUNDUP(B33,0),B33+0.01),2))) -> 5.02 | C34: WG 5 Activity 2 | F34: =IFERROR(VLOOKUP(E34,$B$6:$I$200,8,FALSE),'Plan your Plan'!$C$6) -> 46357 | H34: =G34*VLOOKUP('Plan your Plan'!$C$13,'Plan your Plan'!$J$4:$K$9,2,FALSE) -> 0 | I34: =IF(F34="","",F34+H34) -> 46357 | K34: =IF(F34="","",F34+(H34*J34)) -> 46357
B35: =(IF(C35="","",ROUND(IF(COUNTIF('Plan your Activities'!$A$1:$Z$1,C35)>0,ROUNDUP(B34,0),B34+0.01),2))) -> 5.03 | C35: WG 5 Activity 3 | F35: =IFERROR(VLOOKUP(E35,$B$6:$I$200,8,FALSE),'Plan your Plan'!$C$6) -> 46357 | H35: =G35*VLOOKUP('Plan your Plan'!$C$13,'Plan your Plan'!$J$4:$K$9,2,FALSE) -> 0 | I35: =IF(F35="","",F35+H35) -> 46357 | K35: =IF(F35="","",F35+(H35*J35)) -> 46357
B36: =(IF(C36="","",ROUND(IF(COUNTIF('Plan your Activities'!$A$1:$Z$1,C36)>0,ROUNDUP(B35,0),B35+0.01),2))) -> 6 | C36: Workgroup 6 | F36: =IFERROR(VLOOKUP(E36,$B$6:$I$200,8,FALSE),'Plan your Plan'!$C$6) -> 46357 | H36: =G36*VLOOKUP('Plan your Plan'!$C$13,'Plan your Plan'!$J$4:$K$9,2,FALSE) -> 0 | I36: =IF(F36="","",F36+H36) -> 46357 | K36: =IF(F36="","",F36+(H36*J36)) -> 46357
B37: =(IF(C37="","",ROUND(IF(COUNTIF('Plan your Activities'!$A$1:$Z$1,C37)>0,ROUNDUP(B36,0),B36+0.01),2))) -> 6.01 | C37: WG 6 Activity 1 | F37: =IFERROR(VLOOKUP(E37,$B$6:$I$200,8,FALSE),'Plan your Plan'!$C$6) -> 46357 | H37: =G37*VLOOKUP('Plan your Plan'!$C$13,'Plan your Plan'!$J$4:$K$9,2,FALSE) -> 0 | I37: =IF(F37="","",F37+H37) -> 46357 | K37: =IF(F37="","",F37+(H37*J37)) -> 46357
B38: =(IF(C38="","",ROUND(IF(COUNTIF('Plan your Activities'!$A$1:$Z$1,C38)>0,ROUNDUP(B37,0),B37+0.01),2))) -> 6.02 | C38: WG 6 Activity 2 | F38: =IFERROR(VLOOKUP(E38,$B$6:$I$200,8,FALSE),'Plan your Plan'!$C$6) -> 46357 | H38: =G38*VLOOKUP('Plan your Plan'!$C$13,'Plan your Plan'!$J$4:$K$9,2,FALSE) -> 0 | I38: =IF(F38="","",F38+H38) -> 46357 | K38: =IF(F38="","",F38+(H38*J38)) -> 46357
B39: =(IF(C39="","",ROUND(IF(COUNTIF('Plan your Activities'!$A$1:$Z$1,C39)>0,ROUNDUP(B38,0),B38+0.01),2))) -> 6.03 | C39: WG 6 Activity 3 | F39: =IFERROR(VLOOKUP(E39,$B$6:$I$200,8,FALSE),'Plan your Plan'!$C$6) -> 46357 | H39: =G39*VLOOKUP('Plan your Plan'!$C$13,'Plan your Plan'!$J$4:$K$9,2,FALSE) -> 0 | I39: =IF(F39="","",F39+H39) -> 46357 | K39: =IF(F39="","",F39+(H39*J39)) -> 46357
B40: =(IF(C40="","",ROUND(IF(COUNTIF('Plan your Activities'!$A$1:$Z$1,C40)>0,ROUNDUP(B39,0),B39+0.01),2))) -> 6.04 | C40: WG 6 Activity 4 | F40: =IFERROR(VLOOKUP(E40,$B$6:$I$200,8,FALSE),'Plan your Plan'!$C$6) -> 46357 | H40: =G40*VLOOKUP('Plan your Plan'!$C$13,'Plan your Plan'!$J$4:$K$9,2,FALSE) -> 0 | I40: =IF(F40="","",F40+H40) -> 46357 | K40: =IF(F40="","",F40+(H40*J40)) -> 46357
B41: =(IF(C41="","",ROUND(IF(COUNTIF('Plan your Activities'!$A$1:$Z$1,C41)>0,ROUNDUP(B40,0),B40+0.01),2))) | F41: =IFERROR(VLOOKUP(E41,$B$6:$I$200,8,FALSE),'Plan your Plan'!$C$6) -> 46357 | H41: =G41*VLOOKUP('Plan your Plan'!$C$13,'Plan your Plan'!$J$4:$K$9,2,FALSE) -> 0 | I41: =IF(F41="","",F41+H41) -> 46357 | K41: =IF(F41="","",F41+(H41*J41)) -> 46357
B42: =(IF(C42="","",ROUND(IF(COUNTIF('Plan your Activities'!$A$1:$Z$1,C42)>0,ROUNDUP(B41,0),B41+0.01),2))) | F42: =IFERROR(VLOOKUP(E42,$B$6:$I$200,8,FALSE),'Plan your Plan'!$C$6) -> 46357 | H42: =G42*VLOOKUP('Plan your Plan'!$C$13,'Plan your Plan'!$J$4:$K$9,2,FALSE) -> 0 | I42: =IF(F42="","",F42+H42) -> 46357 | K42: =IF(F42="","",F42+(H42*J42)) -> 46357
B43: =(IF(C43="","",ROUND(IF(COUNTIF('Plan your Activities'!$A$1:$Z$1,C43)>0,ROUNDUP(B42,0),B42+0.01),2))) | F43: =IFERROR(VLOOKUP(E43,$B$6:$I$200,8,FALSE),'Plan your Plan'!$C$6) -> 46357 | H43: =G43*VLOOKUP('Plan your Plan'!$C$13,'Plan your Plan'!$J$4:$K$9,2,FALSE) -> 0 | I43: =IF(F43="","",F43+H43) -> 46357 | K43: =IF(F43="","",F43+(H43*J43)) -> 46357
B44: =(IF(C44="","",ROUND(IF(COUNTIF('Plan your Activities'!$A$1:$Z$1,C44)>0,ROUNDUP(B43,0),B43+0.01),2))) | F44: =IFERROR(VLOOKUP(E44,$B$6:$I$200,8,FALSE),'Plan your Plan'!$C$6) -> 46357 | H44: =G44*VLOOKUP('Plan your Plan'!$C$13,'Plan your Plan'!$J$4:$K$9,2,FALSE) -> 0 | I44: =IF(F44="","",F44+H44) -> 46357 | K44: =IF(F44="","",F44+(H44*J44)) -> 46357
B45: =(IF(C45="","",ROUND(IF(COUNTIF('Plan your Activities'!$A$1:$Z$1,C45)>0,ROUNDUP(B44,0),B44+0.01),2))) | F45: =IFERROR(VLOOKUP(E45,$B$6:$I$200,8,FALSE),'Plan your Plan'!$C$6) -> 46357 | H45: =G45*VLOOKUP('Plan your Plan'!$C$13,'Plan your Plan'!$J$4:$K$9,2,FALSE) -> 0 | I45: =IF(F45="","",F45+H45) -> 46357 | K45: =IF(F45="","",F45+(H45*J45)) -> 46357
B46: =(IF(C46="","",ROUND(IF(COUNTIF('Plan your Activities'!$A$1:$Z$1,C46)>0,ROUNDUP(B45,0),B45+0.01),2))) | F46: =IFERROR(VLOOKUP(E46,$B$6:$I$200,8,FALSE),'Plan your Plan'!$C$6) -> 46357 | H46: =G46*VLOOKUP('Plan your Plan'!$C$13,'Plan your Plan'!$J$4:$K$9,2,FALSE) -> 0 | I46: =IF(F46="","",F46+H46) -> 46357 | K46: =IF(F46="","",F46+(H46*J46)) -> 46357
B47: =(IF(C47="","",ROUND(IF(COUNTIF('Plan your Activities'!$A$1:$Z$1,C47)>0,ROUNDUP(B46,0),B46+0.01),2))) | F47: =IFERROR(VLOOKUP(E47,$B$6:$I$200,8,FALSE),'Plan your Plan'!$C$6) -> 46357 | H47: =G47*VLOOKUP('Plan your Plan'!$C$13,'Plan your Plan'!$J$4:$K$9,2,FALSE) -> 0 | I47: =IF(F47="","",F47+H47) -> 46357 | K47: =IF(F47="","",F47+(H47*J47)) -> 46357
B48: =(IF(C48="","",ROUND(IF(COUNTIF('Plan your Activities'!$A$1:$Z$1,C48)>0,ROUNDUP(B47,0),B47+0.01),2))) | F48: =IFERROR(VLOOKUP(E48,$B$6:$I$200,8,FALSE),'Plan your Plan'!$C$6) -> 46357 | H48: =G48*VLOOKUP('Plan your Plan'!$C$13,'Plan your Plan'!$J$4:$K$9,2,FALSE) -> 0 | I48: =IF(F48="","",F48+H48) -> 46357 | K48: =IF(F48="","",F48+(H48*J48)) -> 46357
B49: =(IF(C49="","",ROUND(IF(COUNTIF('Plan your Activities'!$A$1:$Z$1,C49)>0,ROUNDUP(B48,0),B48+0.01),2))) | F49: =IFERROR(VLOOKUP(E49,$B$6:$I$200,8,FALSE),'Plan your Plan'!$C$6) -> 46357 | H49: =G49*VLOOKUP('Plan your Plan'!$C$13,'Plan your Plan'!$J$4:$K$9,2,FALSE) -> 0 | I49: =IF(F49="","",F49+H49) -> 46357 | K49: =IF(F49="","",F49+(H49*J49)) -> 46357
B50: =(IF(C50="","",ROUND(IF(COUNTIF('Plan your Activities'!$A$1:$Z$1,C50)>0,ROUNDUP(B49,0),B49+0.01),2))) | F50: =IFERROR(VLOOKUP(E50,$B$6:$I$200,8,FALSE),'Plan your Plan'!$C$6) -> 46357 | H50: =G50*VLOOKUP('Plan your Plan'!$C$13,'Plan your Plan'!$J$4:$K$9,2,FALSE) -> 0 | I50: =IF(F50="","",F50+H50) -> 46357 | K50: =IF(F50="","",F50+(H50*J50)) -> 46357
B51: =(IF(C51="","",ROUND(IF(COUNTIF('Plan your Activities'!$A$1:$Z$1,C51)>0,ROUNDUP(B50,0),B50+0.01),2))) | F51: =IFERROR(VLOOKUP(E51,$B$6:$I$200,8,FALSE),'Plan your Plan'!$C$6) -> 46357 | H51: =G51*VLOOKUP('Plan your Plan'!$C$13,'Plan your Plan'!$J$4:$K$9,2,FALSE) -> 0 | I51: =IF(F51="","",F51+H51) -> 46357 | K51: =IF(F51="","",F51+(H51*J51)) -> 46357
B52: =(IF(C52="","",ROUND(IF(COUNTIF('Plan your Activities'!$A$1:$Z$1,C52)>0,ROUNDUP(B51,0),B51+0.01),2))) | F52: =IFERROR(VLOOKUP(E52,$B$6:$I$200,8,FALSE),'Plan your Plan'!$C$6) -> 46357 | H52: =G52*VLOOKUP('Plan your Plan'!$C$13,'Plan your Plan'!$J$4:$K$9,2,FALSE) -> 0 | I52: =IF(F52="","",F52+H52) -> 46357 | K52: =IF(F52="","",F52+(H52*J52)) -> 46357
... B200: =(IF(C200="","",ROUND(IF(COUNTIF('Plan your Activities'!$A$1:$Z$1,C200)>0,ROUNDUP(B199,0),B199+0.01),2))) | F200: =IFERROR(VLOOKUP(E200,$B$6:$I$200,8,FALSE),'Plan your Plan'!$C$6) -> 46357 | H200: =G200*VLOOKUP('Plan your Plan'!$C$13,'Plan your Plan'!$J$4:$K$9,2,FALSE) -> 0 | I200: =IF(F200="","",F200+H200) -> 46357 | K200: =IF(F200="","",F200+(H200*J200)) -> 46357
